BEGIN:VCALENDAR
VERSION:2.0
PRODID:-//SUTRAK 2019 - ECPv5.1.4//NONSGML v1.0//EN
CALSCALE:GREGORIAN
METHOD:PUBLISH
X-WR-CALNAME:SUTRAK 2019
X-ORIGINAL-URL:https://sutrakusa.com
X-WR-CALDESC:Events for SUTRAK 2019
BEGIN:VTIMEZONE
TZID:UTC
BEGIN:STANDARD
TZOFFSETFROM:+0000
TZOFFSETTO:+0000
TZNAME:UTC
DTSTART:20190101T000000
END:STANDARD
END:VTIMEZONE
BEGIN:VEVENT
DTSTART;VALUE=DATE:20190407
DTEND;VALUE=DATE:20190410
DTSTAMP:20260423T083434
CREATED:20181026T153134Z
LAST-MODIFIED:20181026T153236Z
UID:564-1554595200-1554854399@sutrakusa.com
SUMMARY:2019 14th National Light Rail and Streetcar Conference
DESCRIPTION:\n\n	Related\n
URL:https://sutrakusa.com/event/2019-14th-national-light-rail-and-streetcar-conference/
LOCATION:Hyatt Regency\, Jersey City
END:VEVENT
END:VCALENDAR